BEGIN:VCALENDAR
VERSION:2.0
PRODID:-//Promentium | Psicólogos y Psiquiatras Murcia - ECPv6.15.20//NONSGML v1.0//EN
CALSCALE:GREGORIAN
METHOD:PUBLISH
X-WR-CALNAME:Promentium | Psicólogos y Psiquiatras Murcia
X-ORIGINAL-URL:https://centropromentium.com
X-WR-CALDESC:Eventos para Promentium | Psicólogos y Psiquiatras Murcia
REFRESH-INTERVAL;VALUE=DURATION:PT1H
X-Robots-Tag:noindex
X-PUBLISHED-TTL:PT1H
BEGIN:VTIMEZONE
TZID:UTC
BEGIN:STANDARD
TZOFFSETFROM:+0000
TZOFFSETTO:+0000
TZNAME:UTC
DTSTART:20210101T000000
END:STANDARD
END:VTIMEZONE
BEGIN:VEVENT
DTSTART;TZID=UTC:20220122T123000
DTEND;TZID=UTC:20220122T133000
DTSTAMP:20260421T071337
CREATED:20220118T080832Z
LAST-MODIFIED:20220118T201930Z
UID:3060-1642854600-1642858200@centropromentium.com
SUMMARY:Taller "Aprendiendo a conocerme: autoestima"
DESCRIPTION:k\n					\n						Información general\n						La autoestima nos condiciona en la forma de tratarnos\, relacionarnos\, en nuestras metas\, es por ello que:Con este taller se pretende facilitar recursos y estrategias para que la persona pueda explorar un poco más en su autoconocimiento a través de la autoestima. Se trata de que la persona pueda comprender como funciona la autoestima y enseñar estrategias y recursos para gestionarse cuando hay una autoestima disfuncional e ir construyendo una autoestima saludable. La duración es aproximadamente de 1 hora y va dirigido a personas adultas entre 18 y 65 años. \nEl taller es totalmente gratuito y exclusivo para psicólogos. \nLa fecha de este taller es la especificada en el evento (22 de Enero de 2022)\, de 12:30 a 13:00 en formato online (a través de la plataforma zoom). \n					\n				\n			\n				\n				\n				\n				\n				\n					\n					\n						Contenido del taller\n						• Introducción• ¿Qué es la autoestima?• Tipos de autoestima• Características de autoestima alta y baja.• ¿Cómo se conforma la autoestima?• Facilitadores para construir una autoestima sana.• Actitudes para alimentar la autoestima \n					\n				\n			\n				\n				\n				\n				\n				\n					\n					\n						Inscripción\n						\nRellena este formulario de más abajo (recuerda que es imprescindible ser psicólogo y estar colegiado para acceder a este taller)\nEn un máximo de 48 horas te llegará un email confirmando la inscripción en el taller\, o bien aplazando tu solicitud si hemos rebasado el límite de plazas.\n\n					\n				\n			\n			\n				\n				\n				\n				\n				Formulario de pre-inscripción\n				\n				\n				\n					\n						\n				\n				\n				\n				\n				Nombre y apellido\n				\n			 \n				\n				\n				\n				\n				Dirección de correo electrónico\n				\n			 \n				\n				\n				\n				\n				Teléfono\n				\n			 \n				\n				\n				\n				\n				DNI\n				\n			 \n				\n				\n				\n				\n				Nº Colegiado\n				\n			 \n						\n						\n							\n							Inscribirme\n						\n						\n					\n				\n			\n			\n			\n				\n				\n				\n				\n			\n				\n				\n				\n				\n				\n				\n				\n				\n				\n				\n				Suscríbete a nuestro Boletín de noticias\n			\n				\n				\n				\n				\n				[newsletter_signup_form id=1]
URL:https://centropromentium.com/evento/taller-de-autoconocimiento/
LOCATION:Centro Promentium\, Avda. Patricio Valverde Espín\, 5\, Murcia\, Murcia\, 30007\, España
CATEGORIES:Dirigido a Psicólogos
ATTACH;FMTTYPE=image/png:https://centropromentium.com/wp-content/uploads/2022/01/APRENDIENDO-A-CONOCERME.png
END:VEVENT
END:VCALENDAR