BEGIN:VCALENDAR
VERSION:2.0
PRODID:-//Promentium | Psicólogos y Psiquiatras Murcia - ECPv6.15.20//NONSGML v1.0//EN
CALSCALE:GREGORIAN
METHOD:PUBLISH
X-ORIGINAL-URL:https://centropromentium.com
X-WR-CALDESC:Eventos para Promentium | Psicólogos y Psiquiatras Murcia
REFRESH-INTERVAL;VALUE=DURATION:PT1H
X-Robots-Tag:noindex
X-PUBLISHED-TTL:PT1H
BEGIN:VTIMEZONE
TZID:Europe/Madrid
BEGIN:DAYLIGHT
TZOFFSETFROM:+0100
TZOFFSETTO:+0200
TZNAME:CEST
DTSTART:20230326T010000
END:DAYLIGHT
BEGIN:STANDARD
TZOFFSETFROM:+0200
TZOFFSETTO:+0100
TZNAME:CET
DTSTART:20231029T010000
END:STANDARD
BEGIN:DAYLIGHT
TZOFFSETFROM:+0100
TZOFFSETTO:+0200
TZNAME:CEST
DTSTART:20240331T010000
END:DAYLIGHT
BEGIN:STANDARD
TZOFFSETFROM:+0200
TZOFFSETTO:+0100
TZNAME:CET
DTSTART:20241027T010000
END:STANDARD
BEGIN:DAYLIGHT
TZOFFSETFROM:+0100
TZOFFSETTO:+0200
TZNAME:CEST
DTSTART:20250330T010000
END:DAYLIGHT
BEGIN:STANDARD
TZOFFSETFROM:+0200
TZOFFSETTO:+0100
TZNAME:CET
DTSTART:20251026T010000
END:STANDARD
END:VTIMEZONE
BEGIN:VEVENT
DTSTART;TZID=Europe/Madrid:20240119T173000
DTEND;TZID=Europe/Madrid:20240119T183000
DTSTAMP:20260420T013145
CREATED:20240111T222553Z
LAST-MODIFIED:20240111T224655Z
UID:4762-1705685400-1705689000@centropromentium.com
SUMMARY:Taller de Relajación
DESCRIPTION:19 de Enero de 2024\, de 17:30 h. a 18:30h. y de 19:00h. a 20:00h.\n			\n				\n				\n				\n				\n				\n					\n					\n						Información\n						El taller de relajación está dirigido a personas adultas que quieran aprender distintos métodos de relajación para aplicarlos en la vida diaria\, en momentos de estrés\, ansiedad\, problemas de insomnio\, fobias\, etc. Tendrá 1 hora de duración. \nPrecio: 15€/persona \n					\n				\n			\n				\n				\n				\n				\n				\n					I\n					\n						Aprenderemos\n						\nTécnicas de respiración\nRelajación mediante visualización\nRelajación muscular progresiva\nRelajación en entrenamiento autógeno\nMindfulness\n\n					\n				\n			\n				\n				\n				\n				\n				\n					\n					\n						Fecha y lugar de realización\n						El taller se llevará a cabo el 19 de Enero de 2024 \, en la sede de Centro Promentium\, en Avda. Patricio Valverde Espín\, 6 (junto taller de instrumentos musicales)\, Bajo 2\,  30007\, Murcia \n					\n				\n			\n				Pagar inscripción \n			\n			\n				\n				\n				\n				\n				Formulario de pre-inscripción\n				\n				\n				\n					\n						\n				\n				\n				\n				\n				Nombre y apellido\n				\n			 \n				\n				\n				\n				\n				Dirección de correo electrónico\n				\n			 \n				\n				\n				\n				\n				Teléfono\n				\n			 \n				\n				\n				\n				\n				DNI\n				\n			 \n						\n						\n							\n							Inscribirme\n						\n						\n					\n				\n			\n			\n			\n				\n				\n				\n				\n			\n				\n				\n				\n				\n				\n				\n				\n				\n				\n				\n				Suscríbete a nuestro Boletín de noticias\n			\n				\n				\n				\n				\n				[newsletter_signup_form id=1]
URL:https://centropromentium.com/evento/taller-relajacion/
LOCATION:Centro Promentium\, Avda. Patricio Valverde Espín\, 5\, Murcia\, Murcia\, 30007\, España
CATEGORIES:Todo público
ATTACH;FMTTYPE=image/jpeg:https://centropromentium.com/wp-content/uploads/2024/01/WhatsApp-Image-2024-01-10-at-09.52.10.jpeg
END:VEVENT
END:VCALENDAR