BEGIN:VCALENDAR
VERSION:2.0
PRODID:-//Promentium | Psicólogos y Psiquiatras Murcia - ECPv6.15.20//NONSGML v1.0//EN
CALSCALE:GREGORIAN
METHOD:PUBLISH
X-ORIGINAL-URL:https://centropromentium.com
X-WR-CALDESC:Eventos para Promentium | Psicólogos y Psiquiatras Murcia
REFRESH-INTERVAL;VALUE=DURATION:PT1H
X-Robots-Tag:noindex
X-PUBLISHED-TTL:PT1H
BEGIN:VTIMEZONE
TZID:UTC
BEGIN:STANDARD
TZOFFSETFROM:+0000
TZOFFSETTO:+0000
TZNAME:UTC
DTSTART:20220101T000000
END:STANDARD
END:VTIMEZONE
BEGIN:VTIMEZONE
TZID:Europe/Madrid
BEGIN:DAYLIGHT
TZOFFSETFROM:+0100
TZOFFSETTO:+0200
TZNAME:CEST
DTSTART:20220327T010000
END:DAYLIGHT
BEGIN:STANDARD
TZOFFSETFROM:+0200
TZOFFSETTO:+0100
TZNAME:CET
DTSTART:20221030T010000
END:STANDARD
BEGIN:DAYLIGHT
TZOFFSETFROM:+0100
TZOFFSETTO:+0200
TZNAME:CEST
DTSTART:20230326T010000
END:DAYLIGHT
BEGIN:STANDARD
TZOFFSETFROM:+0200
TZOFFSETTO:+0100
TZNAME:CET
DTSTART:20231029T010000
END:STANDARD
BEGIN:DAYLIGHT
TZOFFSETFROM:+0100
TZOFFSETTO:+0200
TZNAME:CEST
DTSTART:20240331T010000
END:DAYLIGHT
BEGIN:STANDARD
TZOFFSETFROM:+0200
TZOFFSETTO:+0100
TZNAME:CET
DTSTART:20241027T010000
END:STANDARD
END:VTIMEZONE
BEGIN:VEVENT
DTSTART;VALUE=DATE:20230210
DTEND;VALUE=DATE:20240629
DTSTAMP:20260419T185019
CREATED:20230301T080013Z
LAST-MODIFIED:20240205T192501Z
UID:4156-1675987200-1719619199@centropromentium.com
SUMMARY:Terapia Grupal
DESCRIPTION:k\n					\n						Información general\n						La duración es aproximadamente de 90 minutos\, va dirigido a personas adultas entre 18 y 65 años. \nLas sesiones de Terapia Grupal tiene un coste de 500€ el programa completo\, puede pagarse fraccionado en dos plazos\, si desea un descuento puede consultarlo con nosotros. \nDa comienzo es el 10 de Febrero y  se realiza cada dos viernes del mes.  \nConsta de un grupo reducido para garantizar una mejor dinámica entre las actividades de grupos que se van a realizar\, por lo que se recomienda la inscripción al curso antes de finalizar dichas plazas. \n					\n				\n			\n				\n				\n				\n				\n				\n					\n					\n						Contenido del taller\n						Terapia Grupal \n					\n				\n			\n				\n				\n				\n				\n				\n					\n					\n						Inscripción\n						\nRellena este formulario de más abajo.\nEn un máximo de 48 horas te llegará un email confirmando la inscripción en el taller\, o bien aplazando tu solicitud si hemos rebasado el límite de plazas.\n\n					\n				\n			\n			\n				\n				\n				\n				\n				Formulario de pre-inscripción\n				\n				\n				\n					\n						\n				\n				\n				\n				\n				Nombre y apellido\n				\n			 \n				\n				\n				\n				\n				Dirección de correo electrónico\n				\n			 \n				\n				\n				\n				\n				Teléfono\n				\n			 \n				\n				\n				\n				\n				DNI\n				\n			 \n						\n						\n							\n							Inscribirme\n						\n						\n					\n				\n			\n			\n			\n				\n				\n				\n				\n			\n				\n				\n				\n				\n				\n				\n				\n				\n				\n				\n				Suscríbete a nuestro Boletín de noticias\n			\n				\n				\n				\n				\n				[newsletter_signup_form id=1]
URL:https://centropromentium.com/evento/terapia-grupal/
LOCATION:Murcia
CATEGORIES:Dirigido a población general,Todo público
ATTACH;FMTTYPE=image/png:https://centropromentium.com/wp-content/uploads/2023/03/post-flyer-terapia-grupal-6-.png
END:VEVENT
BEGIN:VEVENT
DTSTART;TZID=Europe/Madrid:20231027T100000
DTEND;TZID=Europe/Madrid:20231027T120000
DTSTAMP:20260419T185019
CREATED:20231016T182901Z
LAST-MODIFIED:20231018T102358Z
UID:4669-1698400800-1698408000@centropromentium.com
SUMMARY:Taller Gestión del Tiempo: Organización Diaria y Gestión de Tareas
DESCRIPTION:k\n					\n						Información general\n						Este año nuestro taller de Gestión del tiempo se focalizará más en la organización del día a día y mostrará pautas para gestionar de manera eficiente las tareas que nos rodea. \nLa duración es aproximadamente de 2 horas y está dirigido todo el publico de entre 18 y 65 años. \nEl taller tiene un coste de 15€  y se realizará de forma presencial. \nSe iniciará el taller el 27 de Octubre de 2023 desde las 10:00 hasta las 12:00. \n  \n					\n				\n			\n				\n				\n				\n				\n				\n					\n					\n						Contenido del taller\n						Es un taller eminentemente práctico\, con ejemplos reales y aportados por los participantes. \nSe profundizará en los siguientes puntos: \n\nVentajas/Inconvenientes\nProductividad\nObjetivo vs. Tarea\nFactores esenciales para mejorar la gestión del tiempo\nTécnicas de gestión del tiempo: aplicación práctica\nDetractores\nAplicaciones (apps) de ayuda\nEjercicios prácticos\n\n					\n				\n			\n				\n				\n				\n				\n				\n					\n					\n						Inscripción\n						\nCompra el taller o rellena este formulario.\nEn un máximo de 48 horas te llegará un email confirmando la inscripción en el taller\, o bien aplazando tu solicitud si hemos rebasado el límite de plazas.\n\n					\n				\n			\n				Comprar\n			\n			\n				\n				\n				\n				\n				Formulario de pre-inscripción\n				\n				\n				\n					\n						\n				\n				\n				\n				\n				Nombre del Taller\n				\n			 \n				\n				\n				\n				\n				Nombre y apellido\n				\n			 \n				\n				\n				\n				\n				Dirección de correo electrónico\n				\n			 \n				\n				\n				\n				\n				Teléfono\n				\n			 \n				\n				\n				\n				\n				DNI\n				\n			 \n						\n						\n							\n							Inscribirme\n						\n						\n					\n				\n			\n			\n			\n				\n				\n				\n				\n			\n				\n				\n				\n				\n				\n				\n				\n				\n				\n				\n				Suscríbete a nuestro Boletín de noticias\n			\n				\n				\n				\n				\n				[newsletter_signup_form id=1]
URL:https://centropromentium.com/evento/taller-gestion-del-tiempo-organizacion-diaria-y-gestion-de-tareas/
LOCATION:Murcia
CATEGORIES:Todo público
ATTACH;FMTTYPE=image/png:https://centropromentium.com/wp-content/uploads/2023/10/2.png
END:VEVENT
END:VCALENDAR