BEGIN:VCALENDAR
VERSION:2.0
PRODID:-//Promentium | Psicólogos y Psiquiatras Murcia - ECPv6.15.20//NONSGML v1.0//EN
CALSCALE:GREGORIAN
METHOD:PUBLISH
X-WR-CALNAME:Promentium | Psicólogos y Psiquiatras Murcia
X-ORIGINAL-URL:https://centropromentium.com
X-WR-CALDESC:Eventos para Promentium | Psicólogos y Psiquiatras Murcia
REFRESH-INTERVAL;VALUE=DURATION:PT1H
X-Robots-Tag:noindex
X-PUBLISHED-TTL:PT1H
BEGIN:VTIMEZONE
TZID:UTC
BEGIN:STANDARD
TZOFFSETFROM:+0000
TZOFFSETTO:+0000
TZNAME:UTC
DTSTART:20200101T000000
END:STANDARD
END:VTIMEZONE
BEGIN:VEVENT
DTSTART;TZID=UTC:20211006T110000
DTEND;TZID=UTC:20211229T133000
DTSTAMP:20260421T122810
CREATED:20210607T141616Z
LAST-MODIFIED:20211015T141804Z
UID:2231-1633518000-1640784600@centropromentium.com
SUMMARY:Grupos de supervisión de casos para psicólogos en Murcia
DESCRIPTION:\n					\n						Fechas\n						2\nGrupos de 5 personas.  \nGrupo Lunes por las mañanas de 11:00 a 12:30: 4 de Octubre\, 8 de Noviembre\, 13 de Diciembre\, 10 de Enero\, 7 de Febrero\, 7 de Marzo\, 4 de Abril\, 9 de Mayo\, 13 de Junio. \n  \n\nInicio el 4 de Octubre\n\n					\n				\n			\n				\n				\n				\n				\n				\n					\n					\n						Inversión:\n						Sesiones grupales: 40€/sesión que serán abonados en el momento de inscribirse. \nPara sesiones individuales de supervisión (45 min.): 55€ la sesión. \n					\n				\n			\n				Pagar inscripción\n			\n			\n				\n				\n				\n				\n				Formulario de pre-inscripción\n				\n				\n				\n					\n						\n				\n				\n				\n				\n				Nombre y apellido\n				\n			 \n				\n				\n				\n				\n				Nº de colegiado\n				\n			 \n				\n				\n				\n				\n				Especialidad\n				\n			 \n				\n				\n				\n				\n				Dirección de correo electrónico\n				\n			 \n				\n				\n				\n				\n				Teléfono\n				\n			 \n				\n				\n				\n				\n				DNI\n				\n			 \n						\n						\n							\n							Inscribirme\n						\n						\n					\n				\n			\n			\n			\n				\n				\n				\n				\n			\n				\n				\n				\n				\n				\n				\n				\n				\n				\n				\n				Suscríbete a nuestro Boletín de noticias\n			\n				\n				\n				\n				\n				[newsletter_signup_form id=1]
URL:https://centropromentium.com/evento/grupos-de-supervision-de-casos-para-psicologos-en-murcia/
LOCATION:Centro Promentium\, Avda. Patricio Valverde Espín\, 5\, Murcia\, Murcia\, 30007\, España
CATEGORIES:Dirigido a Psicólogos
END:VEVENT
END:VCALENDAR